Package: roastgsa Version: 1.5.0 Command: /Library/Frameworks/R.framework/Resources/bin/R CMD build --keep-empty-dirs --no-resave-data roastgsa StartedAt: 2025-02-09 18:12:58 -0500 (Sun, 09 Feb 2025) EndedAt: 2025-02-09 18:14:34 -0500 (Sun, 09 Feb 2025) EllapsedTime: 96.1 seconds RetCode: 0 Status: OK PackageFile: roastgsa_1.5.0.tar.gz PackageFileSize: 2.138 MiB