Package: roastgsa Version: 1.5.0 Command: /Library/Frameworks/R.framework/Resources/bin/R CMD INSTALL roastgsa StartedAt: 2025-02-09 15:08:32 -0500 (Sun, 09 Feb 2025) EndedAt: 2025-02-09 15:08:52 -0500 (Sun, 09 Feb 2025) EllapsedTime: 19.3 seconds RetCode: 0 Status: OK