Package: roastgsa Version: 1.5.0 Command: /home/biocbuild/bbs-3.21-bioc/R/bin/R CMD build --keep-empty-dirs --no-resave-data roastgsa StartedAt: 2025-02-12 18:55:18 -0500 (Wed, 12 Feb 2025) EndedAt: 2025-02-12 18:56:38 -0500 (Wed, 12 Feb 2025) EllapsedTime: 80.1 seconds RetCode: 0 Status: OK PackageFile: roastgsa_1.5.0.tar.gz PackageFileSize: 2.102 MiB