Package: ropls Version: 1.39.0 Command: rm -rf ropls.buildbin-libdir && mkdir ropls.buildbin-libdir && E:\biocbuild\bbs-3.21-bioc\R\bin\R.exe CMD INSTALL --build --library=ropls.buildbin-libdir ropls_1.39.0.tar.gz StartedAt: 2025-02-10 08:35:23 -0500 (Mon, 10 Feb 2025) EndedAt: 2025-02-10 08:36:18 -0500 (Mon, 10 Feb 2025) EllapsedTime: 55.1 seconds RetCode: 0 Status: OK PackageFile: ropls_1.39.0.zip PackageFileSize: 4.574 MiB