Package: rprimer Version: 1.11.0 Command: rm -rf rprimer.buildbin-libdir && mkdir rprimer.buildbin-libdir && /Users/biocbuild/BBS/utils/build-universal.sh rprimer_1.11.0.tar.gz /Library/Frameworks/R.framework/Resources/bin/R rprimer.buildbin-libdir StartedAt: 2025-02-03 23:04:21 -0500 (Mon, 03 Feb 2025) EndedAt: 2025-02-03 23:04:29 -0500 (Mon, 03 Feb 2025) EllapsedTime: 8.2 seconds RetCode: 0 Status: OK PackageFile: rprimer_1.11.0.tgz PackageFileSize: 3.656 MiB