Package: rprimer Version: 1.11.0 Command: /Library/Frameworks/R.framework/Resources/bin/R CMD build --keep-empty-dirs --no-resave-data rprimer StartedAt: 2025-02-03 18:03:39 -0500 (Mon, 03 Feb 2025) EndedAt: 2025-02-03 18:04:03 -0500 (Mon, 03 Feb 2025) EllapsedTime: 23.3 seconds RetCode: 0 Status: OK PackageFile: rprimer_1.11.0.tar.gz PackageFileSize: 3.273 MiB