Package: rprimer Version: 1.11.0 Command: /home/biocbuild/R/R/bin/R CMD check --install=check:rprimer.install-out.txt --library=/home/biocbuild/R/R/site-library --no-vignettes --timings rprimer_1.11.0.tar.gz StartedAt: 2025-01-28 14:43:04 -0000 (Tue, 28 Jan 2025) EndedAt: 2025-01-28 14:47:14 -0000 (Tue, 28 Jan 2025) EllapsedTime: 250.3 seconds RetCode: 0 Status: OK CheckDir: rprimer.Rcheck Warnings: 0