Package: rprimer Version: 1.11.0 Command: /Library/Frameworks/R.framework/Resources/bin/R CMD INSTALL rprimer StartedAt: 2025-02-09 15:27:44 -0500 (Sun, 09 Feb 2025) EndedAt: 2025-02-09 15:28:10 -0500 (Sun, 09 Feb 2025) EllapsedTime: 26.3 seconds RetCode: 0 Status: OK