Package: rprimer Version: 1.11.0 Command: /home/biocbuild/bbs-3.21-bioc/R/bin/R CMD build --keep-empty-dirs --no-resave-data rprimer StartedAt: 2025-02-03 19:09:14 -0500 (Mon, 03 Feb 2025) EndedAt: 2025-02-03 19:10:13 -0500 (Mon, 03 Feb 2025) EllapsedTime: 59.1 seconds RetCode: 0 Status: OK PackageFile: rprimer_1.11.0.tar.gz PackageFileSize: 3.094 MiB