Package: rprimer Version: 1.11.0 Command: /home/biocbuild/bbs-3.21-bioc/R/bin/R CMD INSTALL rprimer StartedAt: 2025-02-03 15:38:57 -0500 (Mon, 03 Feb 2025) EndedAt: 2025-02-03 15:39:15 -0500 (Mon, 03 Feb 2025) EllapsedTime: 18.2 seconds RetCode: 0 Status: OK