Package: rprimer Version: 1.11.0 Command: chmod a+r rprimer -R && E:\biocbuild\bbs-3.21-bioc\R\bin\R.exe CMD build --keep-empty-dirs --no-resave-data rprimer StartedAt: 2025-02-03 21:30:59 -0500 (Mon, 03 Feb 2025) EndedAt: 2025-02-03 21:32:46 -0500 (Mon, 03 Feb 2025) EllapsedTime: 107.0 seconds RetCode: 0 Status: OK PackageFile: rprimer_1.11.0.tar.gz PackageFileSize: 1.278 MiB