Package: rprimer Version: 1.11.0 Command: E:\biocbuild\bbs-3.21-bioc\R\bin\R.exe CMD check --no-multiarch --install=check:rprimer.install-out.txt --library=E:\biocbuild\bbs-3.21-bioc\R\library --no-vignettes --timings rprimer_1.11.0.tar.gz StartedAt: 2025-02-10 04:52:19 -0500 (Mon, 10 Feb 2025) EndedAt: 2025-02-10 04:56:01 -0500 (Mon, 10 Feb 2025) EllapsedTime: 222.1 seconds RetCode: 0 Status: OK CheckDir: rprimer.Rcheck Warnings: 0