Package: rprimer Version: 1.11.0 Command: E:\biocbuild\bbs-3.21-bioc\R\bin\R.exe CMD INSTALL rprimer StartedAt: 2025-02-09 15:50:50 -0500 (Sun, 09 Feb 2025) EndedAt: 2025-02-09 15:51:53 -0500 (Sun, 09 Feb 2025) EllapsedTime: 62.2 seconds RetCode: 0 Status: OK