Package: rqubic Version: 1.53.0 Command: /Library/Frameworks/R.framework/Resources/bin/R CMD build --keep-empty-dirs --no-resave-data rqubic StartedAt: 2025-02-09 17:27:34 -0500 (Sun, 09 Feb 2025) EndedAt: 2025-02-09 17:27:42 -0500 (Sun, 09 Feb 2025) EllapsedTime: 8.1 seconds RetCode: 0 Status: OK PackageFile: rqubic_1.53.0.tar.gz PackageFileSize: 189.1 KiB