Package: rqubic Version: 1.53.0 Command: /Library/Frameworks/R.framework/Resources/bin/R CMD check --install=check:rqubic.install-out.txt --library=/Library/Frameworks/R.framework/Resources/library --no-vignettes --timings rqubic_1.53.0.tar.gz StartedAt: 2025-02-09 21:04:42 -0500 (Sun, 09 Feb 2025) EndedAt: 2025-02-09 21:05:06 -0500 (Sun, 09 Feb 2025) EllapsedTime: 23.3 seconds RetCode: 0 Status: OK CheckDir: rqubic.Rcheck Warnings: 0