Package: rqubic Version: 1.53.0 Command: /Library/Frameworks/R.framework/Resources/bin/R CMD INSTALL rqubic StartedAt: 2025-02-09 15:24:15 -0500 (Sun, 09 Feb 2025) EndedAt: 2025-02-09 15:24:18 -0500 (Sun, 09 Feb 2025) EllapsedTime: 3.4 seconds RetCode: 0 Status: OK