Package: rqubic Version: 1.53.0 Command: rm -rf rqubic.buildbin-libdir && mkdir rqubic.buildbin-libdir && /Users/biocbuild/BBS/utils/build-universal.sh rqubic_1.53.0.tar.gz /Library/Frameworks/R.framework/Resources/bin/R rqubic.buildbin-libdir StartedAt: 2025-02-10 01:13:16 -0500 (Mon, 10 Feb 2025) EndedAt: 2025-02-10 01:13:35 -0500 (Mon, 10 Feb 2025) EllapsedTime: 19.6 seconds RetCode: 0 Status: OK PackageFile: rqubic_1.53.0.tgz PackageFileSize: 437.2 KiB