Package: rqubic Version: 1.53.0 Command: /home/biocbuild/bbs-3.21-bioc/R/bin/R CMD check --install=check:rqubic.install-out.txt --library=/home/biocbuild/bbs-3.21-bioc/R/site-library --timings rqubic_1.53.0.tar.gz StartedAt: 2025-02-10 02:06:21 -0500 (Mon, 10 Feb 2025) EndedAt: 2025-02-10 02:07:19 -0500 (Mon, 10 Feb 2025) EllapsedTime: 58.1 seconds RetCode: 0 Status: OK CheckDir: rqubic.Rcheck Warnings: 0