Package: rqubic Version: 1.53.0 Command: /home/biocbuild/bbs-3.21-bioc/R/bin/R CMD INSTALL rqubic StartedAt: 2025-02-09 15:12:26 -0500 (Sun, 09 Feb 2025) EndedAt: 2025-02-09 15:12:35 -0500 (Sun, 09 Feb 2025) EllapsedTime: 8.8 seconds RetCode: 0 Status: OK