Package: rqubic Version: 1.53.0 Command: chmod a+r rqubic -R && E:\biocbuild\bbs-3.21-bioc\R\bin\R.exe CMD build --keep-empty-dirs --no-resave-data rqubic StartedAt: 2025-02-03 21:31:42 -0500 (Mon, 03 Feb 2025) EndedAt: 2025-02-03 21:32:39 -0500 (Mon, 03 Feb 2025) EllapsedTime: 57.9 seconds RetCode: 0 Status: OK PackageFile: rqubic_1.53.0.tar.gz PackageFileSize: 189.9 KiB