Package: rqubic Version: 1.53.0 Command: E:\biocbuild\bbs-3.21-bioc\R\bin\R.exe CMD check --no-multiarch --install=check:rqubic.install-out.txt --library=E:\biocbuild\bbs-3.21-bioc\R\library --no-vignettes --timings rqubic_1.53.0.tar.gz StartedAt: 2025-02-04 05:20:11 -0500 (Tue, 04 Feb 2025) EndedAt: 2025-02-04 05:21:27 -0500 (Tue, 04 Feb 2025) EllapsedTime: 76.3 seconds RetCode: 0 Status: WARNINGS CheckDir: rqubic.Rcheck Warnings: 1