Package: rqubic Version: 1.53.0 Command: E:\biocbuild\bbs-3.21-bioc\R\bin\R.exe CMD INSTALL rqubic StartedAt: 2025-02-03 16:15:51 -0500 (Mon, 03 Feb 2025) EndedAt: 2025-02-03 16:16:27 -0500 (Mon, 03 Feb 2025) EllapsedTime: 35.8 seconds RetCode: 0 Status: OK