Package: rsbml Version: 2.65.0 Maintainer: Michael Lawrence MaintainerEmail: michafla at gene.com git_url: https://git.bioconductor.org/packages/rsbml git_branch: devel git_last_commit: b523cb6 git_last_commit_date: 2024-10-29 09:28:21 -0500 (Tue, 29 Oct 2024)