Package: rsbml Version: 2.65.0 Command: /home/biocbuild/R/R/bin/R CMD INSTALL rsbml StartedAt: 2025-01-29 19:32:50 -0000 (Wed, 29 Jan 2025) EndedAt: 2025-01-29 19:33:22 -0000 (Wed, 29 Jan 2025) EllapsedTime: 32.4 seconds RetCode: 1 Status: ERROR