Package: rsbml Version: 2.65.0 Command: /home/biocbuild/bbs-3.21-bioc/R/bin/R CMD build --keep-empty-dirs --no-resave-data rsbml StartedAt: 2025-02-09 19:01:13 -0500 (Sun, 09 Feb 2025) EndedAt: 2025-02-09 19:01:33 -0500 (Sun, 09 Feb 2025) EllapsedTime: 20.1 seconds RetCode: 0 Status: OK PackageFile: rsbml_2.65.0.tar.gz PackageFileSize: 662.7 KiB