Package: rsbml Version: 2.65.0 Command: /home/biocbuild/bbs-3.21-bioc/R/bin/R CMD check --install=check:rsbml.install-out.txt --library=/home/biocbuild/bbs-3.21-bioc/R/site-library --timings rsbml_2.65.0.tar.gz StartedAt: 2025-02-10 02:07:15 -0500 (Mon, 10 Feb 2025) EndedAt: 2025-02-10 02:07:59 -0500 (Mon, 10 Feb 2025) EllapsedTime: 44.1 seconds RetCode: 0 Status: WARNINGS CheckDir: rsbml.Rcheck Warnings: 1