Package: rsbml Version: 2.65.0 Command: /home/biocbuild/bbs-3.21-bioc/R/bin/R CMD INSTALL rsbml StartedAt: 2025-02-04 15:10:48 -0500 (Tue, 04 Feb 2025) EndedAt: 2025-02-04 15:11:04 -0500 (Tue, 04 Feb 2025) EllapsedTime: 15.1 seconds RetCode: 0 Status: OK