Package: rsbml Version: 2.65.0 Command: chmod a+r rsbml -R && E:\biocbuild\bbs-3.21-bioc\R\bin\R.exe CMD build --keep-empty-dirs --no-resave-data rsbml StartedAt: 2025-02-09 21:18:20 -0500 (Sun, 09 Feb 2025) EndedAt: 2025-02-09 21:20:50 -0500 (Sun, 09 Feb 2025) EllapsedTime: 149.7 seconds RetCode: 0 Status: OK PackageFile: rsbml_2.65.0.tar.gz PackageFileSize: 500.3 KiB