Package: rsbml Version: 2.65.0 Command: E:\biocbuild\bbs-3.21-bioc\R\bin\R.exe CMD INSTALL rsbml StartedAt: 2025-02-09 15:22:49 -0500 (Sun, 09 Feb 2025) EndedAt: 2025-02-09 15:25:56 -0500 (Sun, 09 Feb 2025) EllapsedTime: 186.6 seconds RetCode: 0 Status: OK