Package: rtracklayer Version: 1.67.0 Command: /home/biocbuild/R/R/bin/R CMD INSTALL rtracklayer StartedAt: 2025-01-29 19:48:08 -0000 (Wed, 29 Jan 2025) EndedAt: 2025-01-29 19:49:21 -0000 (Wed, 29 Jan 2025) EllapsedTime: 72.7 seconds RetCode: 0 Status: OK