Package: rtracklayer Version: 1.67.0 Command: rm -rf rtracklayer.buildbin-libdir && mkdir rtracklayer.buildbin-libdir && /Users/biocbuild/BBS/utils/build-universal.sh rtracklayer_1.67.0.tar.gz /Library/Frameworks/R.framework/Resources/bin/R rtracklayer.buildbin-libdir StartedAt: 2025-02-10 01:13:38 -0500 (Mon, 10 Feb 2025) EndedAt: 2025-02-10 01:15:11 -0500 (Mon, 10 Feb 2025) EllapsedTime: 93.4 seconds RetCode: 0 Status: OK PackageFile: rtracklayer_1.67.0.tgz PackageFileSize: 7.464 MiB