Package: rtracklayer Version: 1.67.0 Command: /Library/Frameworks/R.framework/Resources/bin/R CMD build --keep-empty-dirs --no-resave-data rtracklayer StartedAt: 2025-02-03 18:12:11 -0500 (Mon, 03 Feb 2025) EndedAt: 2025-02-03 18:13:18 -0500 (Mon, 03 Feb 2025) EllapsedTime: 67.5 seconds RetCode: 1 Status: ERROR PackageFile: None PackageFileSize: NA