Package: rtracklayer Version: 1.67.0 Command: /Library/Frameworks/R.framework/Resources/bin/R CMD check --install=check:rtracklayer.install-out.txt --library=/Library/Frameworks/R.framework/Resources/library --no-vignettes --timings rtracklayer_1.67.0.tar.gz StartedAt: 2025-02-09 23:17:40 -0500 (Sun, 09 Feb 2025) EndedAt: 2025-02-09 23:24:35 -0500 (Sun, 09 Feb 2025) EllapsedTime: 414.7 seconds RetCode: 0 Status: WARNINGS CheckDir: rtracklayer.Rcheck Warnings: 5