Package: rtracklayer Version: 1.67.0 Command: /Library/Frameworks/R.framework/Resources/bin/R CMD INSTALL rtracklayer StartedAt: 2025-02-09 15:16:14 -0500 (Sun, 09 Feb 2025) EndedAt: 2025-02-09 15:17:29 -0500 (Sun, 09 Feb 2025) EllapsedTime: 75.1 seconds RetCode: 0 Status: OK