Package: rtracklayer Version: 1.67.0 Command: rm -rf rtracklayer.buildbin-libdir && mkdir rtracklayer.buildbin-libdir && E:\biocbuild\bbs-3.21-bioc\R\bin\R.exe CMD INSTALL --build --library=rtracklayer.buildbin-libdir rtracklayer_1.67.0.tar.gz StartedAt: 2025-02-13 08:47:01 -0500 (Thu, 13 Feb 2025) EndedAt: 2025-02-13 08:52:53 -0500 (Thu, 13 Feb 2025) EllapsedTime: 351.9 seconds RetCode: 0 Status: OK PackageFile: rtracklayer_1.67.0.zip PackageFileSize: 9.414 MiB