Package: rtracklayer Version: 1.67.0 Command: chmod a+r rtracklayer -R && E:\biocbuild\bbs-3.21-bioc\R\bin\R.exe CMD build --keep-empty-dirs --no-resave-data rtracklayer StartedAt: 2025-02-09 21:19:38 -0500 (Sun, 09 Feb 2025) EndedAt: 2025-02-09 21:26:48 -0500 (Sun, 09 Feb 2025) EllapsedTime: 429.9 seconds RetCode: 0 Status: OK PackageFile: rtracklayer_1.67.0.tar.gz PackageFileSize: 3.773 MiB