Package: runibic Version: 1.29.0 Command: /home/biocbuild/bbs-3.21-bioc/R/bin/R CMD build --keep-empty-dirs --no-resave-data runibic StartedAt: 2025-02-03 19:10:58 -0500 (Mon, 03 Feb 2025) EndedAt: 2025-02-03 19:11:38 -0500 (Mon, 03 Feb 2025) EllapsedTime: 40.0 seconds RetCode: 0 Status: OK PackageFile: runibic_1.29.0.tar.gz PackageFileSize: 44.84 KiB