Package: runibic Version: 1.29.0 Command: /home/biocbuild/bbs-3.21-bioc/R/bin/R CMD check --install=check:runibic.install-out.txt --library=/home/biocbuild/bbs-3.21-bioc/R/site-library --timings runibic_1.29.0.tar.gz StartedAt: 2025-02-04 02:15:54 -0500 (Tue, 04 Feb 2025) EndedAt: 2025-02-04 02:18:42 -0500 (Tue, 04 Feb 2025) EllapsedTime: 168.2 seconds RetCode: 0 Status: OK CheckDir: runibic.Rcheck Warnings: 0