Package: runibic Version: 1.29.0 Command: rm -rf runibic.buildbin-libdir && mkdir runibic.buildbin-libdir && E:\biocbuild\bbs-3.21-bioc\R\bin\R.exe CMD INSTALL --build --library=runibic.buildbin-libdir runibic_1.29.0.tar.gz StartedAt: 2025-02-06 08:54:38 -0500 (Thu, 06 Feb 2025) EndedAt: 2025-02-06 08:57:22 -0500 (Thu, 06 Feb 2025) EllapsedTime: 163.5 seconds RetCode: 0 Status: OK PackageFile: runibic_1.29.0.zip PackageFileSize: 537 KiB