Package: runibic Version: 1.29.0 Command: chmod a+r runibic -R && E:\biocbuild\bbs-3.21-bioc\R\bin\R.exe CMD build --keep-empty-dirs --no-resave-data runibic StartedAt: 2025-02-03 21:34:13 -0500 (Mon, 03 Feb 2025) EndedAt: 2025-02-03 21:35:07 -0500 (Mon, 03 Feb 2025) EllapsedTime: 53.9 seconds RetCode: 0 Status: OK PackageFile: runibic_1.29.0.tar.gz PackageFileSize: 44.88 KiB