Package: runibic Version: 1.29.0 Command: E:\biocbuild\bbs-3.21-bioc\R\bin\R.exe CMD check --no-multiarch --install=check:runibic.install-out.txt --library=E:\biocbuild\bbs-3.21-bioc\R\library --no-vignettes --timings runibic_1.29.0.tar.gz StartedAt: 2025-02-06 05:26:21 -0500 (Thu, 06 Feb 2025) EndedAt: 2025-02-06 05:29:53 -0500 (Thu, 06 Feb 2025) EllapsedTime: 212.1 seconds RetCode: 0 Status: OK CheckDir: runibic.Rcheck Warnings: 0