Package: runibic Version: 1.29.0 Command: E:\biocbuild\bbs-3.21-bioc\R\bin\R.exe CMD INSTALL runibic StartedAt: 2025-02-03 16:20:31 -0500 (Mon, 03 Feb 2025) EndedAt: 2025-02-03 16:21:19 -0500 (Mon, 03 Feb 2025) EllapsedTime: 47.7 seconds RetCode: 0 Status: OK