Package: sSNAPPY Version: 1.11.0 Command: /Library/Frameworks/R.framework/Resources/bin/R CMD build --keep-empty-dirs --no-resave-data sSNAPPY StartedAt: 2025-02-03 18:20:35 -0500 (Mon, 03 Feb 2025) EndedAt: 2025-02-03 18:24:34 -0500 (Mon, 03 Feb 2025) EllapsedTime: 238.8 seconds RetCode: 0 Status: OK PackageFile: sSNAPPY_1.11.0.tar.gz PackageFileSize: 4.227 MiB