Package: sSNAPPY Version: 1.11.0 Command: /Library/Frameworks/R.framework/Resources/bin/R CMD check --install=check:sSNAPPY.install-out.txt --library=/Library/Frameworks/R.framework/Resources/library --no-vignettes --timings sSNAPPY_1.11.0.tar.gz StartedAt: 2025-02-05 21:41:35 -0500 (Wed, 05 Feb 2025) EndedAt: 2025-02-05 21:44:35 -0500 (Wed, 05 Feb 2025) EllapsedTime: 180.2 seconds RetCode: 0 Status: OK CheckDir: sSNAPPY.Rcheck Warnings: 0