Package: sSNAPPY Version: 1.11.0 Command: /home/biocbuild/R/R/bin/R CMD check --install=check:sSNAPPY.install-out.txt --library=/home/biocbuild/R/R/site-library --no-vignettes --timings sSNAPPY_1.11.0.tar.gz StartedAt: 2025-01-28 15:47:26 -0000 (Tue, 28 Jan 2025) EndedAt: 2025-01-28 15:55:46 -0000 (Tue, 28 Jan 2025) EllapsedTime: 499.6 seconds RetCode: 0 Status: OK CheckDir: sSNAPPY.Rcheck Warnings: 0