Package: sSNAPPY Version: 1.11.0 Command: /Library/Frameworks/R.framework/Resources/bin/R CMD build --keep-empty-dirs --no-resave-data sSNAPPY StartedAt: 2025-02-03 18:32:55 -0500 (Mon, 03 Feb 2025) EndedAt: 2025-02-03 18:41:59 -0500 (Mon, 03 Feb 2025) EllapsedTime: 543.7 seconds RetCode: 0 Status: OK PackageFile: sSNAPPY_1.11.0.tar.gz PackageFileSize: 4.301 MiB