Package: sSNAPPY Version: 1.11.0 Command: /Library/Frameworks/R.framework/Resources/bin/R CMD check --install=check:sSNAPPY.install-out.txt --library=/Library/Frameworks/R.framework/Resources/library --no-vignettes --timings sSNAPPY_1.11.0.tar.gz StartedAt: 2025-02-03 23:38:45 -0500 (Mon, 03 Feb 2025) EndedAt: 2025-02-03 23:46:32 -0500 (Mon, 03 Feb 2025) EllapsedTime: 467.4 seconds RetCode: 0 Status: OK CheckDir: sSNAPPY.Rcheck Warnings: 0