Package: sSNAPPY Version: 1.11.0 Command: /Library/Frameworks/R.framework/Resources/bin/R CMD INSTALL sSNAPPY StartedAt: 2025-02-03 15:18:37 -0500 (Mon, 03 Feb 2025) EndedAt: 2025-02-03 15:19:18 -0500 (Mon, 03 Feb 2025) EllapsedTime: 41.2 seconds RetCode: 0 Status: OK