Package: sSNAPPY Version: 1.11.0 Command: /home/biocbuild/bbs-3.21-bioc/R/bin/R CMD build --keep-empty-dirs --no-resave-data sSNAPPY StartedAt: 2025-02-03 19:37:19 -0500 (Mon, 03 Feb 2025) EndedAt: 2025-02-03 19:46:19 -0500 (Mon, 03 Feb 2025) EllapsedTime: 540.0 seconds RetCode: 0 Status: OK PackageFile: sSNAPPY_1.11.0.tar.gz PackageFileSize: 4.012 MiB