Package: sSNAPPY Version: 1.11.0 Command: /home/biocbuild/bbs-3.21-bioc/R/bin/R CMD INSTALL sSNAPPY StartedAt: 2025-02-03 15:41:43 -0500 (Mon, 03 Feb 2025) EndedAt: 2025-02-03 15:42:14 -0500 (Mon, 03 Feb 2025) EllapsedTime: 31.6 seconds RetCode: 0 Status: OK